BEGIN:VCALENDAR
VERSION:2.0
PRODID:-//McDowell Sonoran Conservancy - ECPv6.15.20//NONSGML v1.0//EN
CALSCALE:GREGORIAN
METHOD:PUBLISH
X-ORIGINAL-URL:https://www.mcdowellsonoran.org
X-WR-CALDESC:Events for McDowell Sonoran Conservancy
REFRESH-INTERVAL;VALUE=DURATION:PT1H
X-Robots-Tag:noindex
X-PUBLISHED-TTL:PT1H
BEGIN:VTIMEZONE
TZID:America/Phoenix
BEGIN:STANDARD
TZOFFSETFROM:-0700
TZOFFSETTO:-0700
TZNAME:MST
DTSTART:20240101T000000
END:STANDARD
END:VTIMEZONE
BEGIN:VEVENT
DTSTART;TZID=America/Phoenix:20251204T090000
DTEND;TZID=America/Phoenix:20251204T110000
DTSTAMP:20260424T194421
CREATED:20251011T000848Z
LAST-MODIFIED:20251011T000848Z
UID:10000750-1764838800-1764846000@www.mcdowellsonoran.org
SUMMARY:The World of Arthropods - Educational Walk
DESCRIPTION:The World of Arthropods at Gateway Trailhead \nSpiders\, scorpions\, bees\, and wasps are just the beginning–there are more species of Arthropods in the world than any other group of animals. Join us on an easy 2 hour walk to discover the fascinating and diverse world of Arthropods and their role in the ecology of the Sonoran Desert. \nBathrooms and water are available at the trailhead. Bring water for the trail. No dogs\, please. Arrive 15 minutes before start of hike. \nSpace is limited! Please save your spot with the RSVP below.
URL:https://www.mcdowellsonoran.org/event/the-world-of-arthropods-educational-walk/
LOCATION:Gateway Trailhead\, 18333 N. Thompson Peak Pkwy.\, Scottsdale\, AZ\, 85255\, United States
CATEGORIES:Educational Walk
END:VEVENT
BEGIN:VEVENT
DTSTART;TZID=America/Phoenix:20251206T090000
DTEND;TZID=America/Phoenix:20251206T110000
DTSTAMP:20260424T194421
CREATED:20251017T180900Z
LAST-MODIFIED:20251017T180921Z
UID:10000752-1765011600-1765018800@www.mcdowellsonoran.org
SUMMARY:Sonoran Desert 101 - Educational Walk
DESCRIPTION:Sonoran Desert 101 at Tom’s Thumb Trailhead. \nThis walk provides a geological and ecological overview of what lives in the McDowell Sonoran Preserve\, and how the flora and fauna survive and thrive. \nRestrooms and water are available at the trailhead. Please bring water and snacks for the trail. Plan to arrive 15 minutes before start of walk. \nSpace is limited! Please save your spot with the RSVP below.
URL:https://www.mcdowellsonoran.org/event/sonoran-desert-101-educational-walk-4/
LOCATION:Tom’s Thumb Trailhead\, 23015 N 128th St.\, Scottsdale\, AZ\, 85255\, United States
CATEGORIES:Educational Walk
END:VEVENT
BEGIN:VEVENT
DTSTART;TZID=America/Phoenix:20251206T090000
DTEND;TZID=America/Phoenix:20251206T110000
DTSTAMP:20260424T194421
CREATED:20251017T181125Z
LAST-MODIFIED:20251017T181125Z
UID:10000753-1765011600-1765018800@www.mcdowellsonoran.org
SUMMARY:Secrets of the Preserve - Educational Walk
DESCRIPTION:Secrets of the Preserve Educational Walk at Fraesfield Trailhead. \nReady to discover more about what is in the Preserve? Join us to explore the Preserve’s hidden treasures\, from the plants and animals to the recent and ancient history in a stunning geological setting. \nThere are restrooms available at the trailhead but no water. Bring water\, snacks and your curiosity. Plan to arrive 15 mins. prior to the start of the walk. No dogs please. \nSpace is limited! Please save your spot with the RSVP below.
URL:https://www.mcdowellsonoran.org/event/secrets-of-the-preserve-educational-walk/
LOCATION:Fraesfield Trailhead\, 13400 East Rio Verde Drive\, Scottsdale\, AZ\, 85262\, United States
CATEGORIES:Educational Walk
END:VEVENT
BEGIN:VEVENT
DTSTART;TZID=America/Phoenix:20251211T090000
DTEND;TZID=America/Phoenix:20251211T110000
DTSTAMP:20260424T194422
CREATED:20251017T185907Z
LAST-MODIFIED:20251017T185907Z
UID:10000758-1765443600-1765450800@www.mcdowellsonoran.org
SUMMARY:Lifecycle of the Saguaro - Educational Walk
DESCRIPTION:Lifecycle of the Saguaro Educational Walk at Brown’s Ranch Trailhead. \nNative only to the Sonoran Desert\, these giant cacti are a sight to see! Join us to follow the growth of a saguaro from seed to skeleton and view multi-armed\, old Saguaros. This easy walk covers 0.5 miles in about 2 hours over easy paths. \nRestrooms and water available at the trailhead. Bring water and snacks for the trail. No dogs please. Arrive 15 minutes before start of walk. \nSpace is limited! Please save your spot with the RSVP below.
URL:https://www.mcdowellsonoran.org/event/lifecycle-of-the-saguaro-educational-walk/
LOCATION:Brown’s Ranch Trailhead\, 30301 N. Alma School Road\, Scottsdale\, AZ\, 85262\, United States
CATEGORIES:Educational Walk
END:VEVENT
BEGIN:VEVENT
DTSTART;TZID=America/Phoenix:20251213T090000
DTEND;TZID=America/Phoenix:20251213T110000
DTSTAMP:20260424T194422
CREATED:20251017T190552Z
LAST-MODIFIED:20251017T190552Z
UID:10000759-1765616400-1765623600@www.mcdowellsonoran.org
SUMMARY:Hunter/Gatherers - Educational Walk
DESCRIPTION:Hunters and Gatherers Educational Hike from Lost Dog Trailhead. \nJoin our expert Archaeologist as we explore the challenges of the Archaic hunter and gatherer to survive and thrive in the Sonoran Desert of 2\,000 years ago. See important desert flora and fauna\, hunting sites and their importance to the survival of an Archaic band. This Moderate hike covers 3 miles over about 2.5 hours with some elevation gain. \nRestrooms and water available at the trailhead. Bring water and snacks for the trail. No dogs please. Arrive 15 minutes before start of hike. \nSpace is limited! Please save your spot with the RSVP below.
URL:https://www.mcdowellsonoran.org/event/hunter-gatherers-educational-walk-2/
LOCATION:Lost Dog Wash Trailhead\, 12601 N. 124th Street\, Scottsdale\, AZ\, 85259\, United States
CATEGORIES:Educational Walk
END:VEVENT
BEGIN:VEVENT
DTSTART;TZID=America/Phoenix:20251217T100000
DTEND;TZID=America/Phoenix:20251217T120000
DTSTAMP:20260424T194422
CREATED:20251017T192049Z
LAST-MODIFIED:20251017T192049Z
UID:10000764-1765965600-1765972800@www.mcdowellsonoran.org
SUMMARY:Noteworthy & Notorious Arizonans - Educational Walk
DESCRIPTION:Noteworthy and Notorious Arizonans Educational Hike at Fraesfield Trailhead. \nJoin a former City of Scottsdale archeologist for an easy hike of discovery and hear tales – some taller than others – of some of our lesser known Arizona heroes\, heroines and villains. Not so notables include a woman prospector (The Miner’s Angel)\, Arizona Rangers\, a lady bandit\, a local ranch foreman\, a woman freed from Mohave captivity\, and a southwestern-modern architect (think City Hall). 3 miles over about 2.5 hours. \nRestrooms are available at the trailhead but no water. Bring water and snacks for the trail. No dogs please. Arrive 15 minutes before start of hike. \nSpace is limited! Please save your spot with the RSVP below.
URL:https://www.mcdowellsonoran.org/event/noteworthy-notorious-arizonans-educational-walk/
LOCATION:Fraesfield Trailhead\, 13400 East Rio Verde Drive\, Scottsdale\, AZ\, 85262\, United States
CATEGORIES:Educational Walk
END:VEVENT
BEGIN:VEVENT
DTSTART;TZID=America/Phoenix:20251218T090000
DTEND;TZID=America/Phoenix:20251218T110000
DTSTAMP:20260424T194422
CREATED:20251017T192256Z
LAST-MODIFIED:20251017T192256Z
UID:10000765-1766048400-1766055600@www.mcdowellsonoran.org
SUMMARY:A Meditation Walk
DESCRIPTION:A Meditation Walk at Brown’s Ranch Trailhead. \nStep away from the day to day and discover inner peace as you immerse yourself in the beauty and power of the Sonoran Desert on a mindful ½ mile journey on the gentle and beautiful Jane Rau Trail. \nPlease arrive 15 minutes prior to start of the walk. Restrooms and water at the trailhead. Please bring water and snacks for the trail. No dogs\, please. \nSpace is limited! Please save your spot with the RSVP below.
URL:https://www.mcdowellsonoran.org/event/a-meditation-walk/
LOCATION:Brown’s Ranch Trailhead\, 30301 N. Alma School Road\, Scottsdale\, AZ\, 85262\, United States
CATEGORIES:Educational Walk
END:VEVENT
BEGIN:VEVENT
DTSTART;TZID=America/Phoenix:20251220T090000
DTEND;TZID=America/Phoenix:20251220T110000
DTSTAMP:20260424T194422
CREATED:20251017T192546Z
LAST-MODIFIED:20251017T192546Z
UID:10000766-1766221200-1766228400@www.mcdowellsonoran.org
SUMMARY:True Grit - Educational Walk
DESCRIPTION:True Grit at Fraesfield Trailhead. \nJoin us on a leisurely one mile\, two hour walk and we will talk about what life was like for women who settled in the McDowells in the 19th and early 20th centuries making their lives with the military\, working the land\, ranching and in the office. \nRestrooms are available at the trailhead but no water. Please bring water and plan to arrive 15 minutes before the start of the walk. No dogs please. \nSpace is limited! Please save your spot with the RSVP below.
URL:https://www.mcdowellsonoran.org/event/true-grit-educational-walk/
LOCATION:Fraesfield Trailhead\, 13400 East Rio Verde Drive\, Scottsdale\, AZ\, 85262\, United States
CATEGORIES:Educational Walk
END:VEVENT
BEGIN:VEVENT
DTSTART;TZID=America/Phoenix:20251227T100000
DTEND;TZID=America/Phoenix:20251227T120000
DTSTAMP:20260424T194422
CREATED:20251017T194608Z
LAST-MODIFIED:20251216T171702Z
UID:10000771-1766829600-1766836800@www.mcdowellsonoran.org
SUMMARY:Sonoran Desert 101 - Educational Walk
DESCRIPTION:Sonoran Desert 101 at Fraesfield Trailhead. \nThis walk provides a geological and ecological overview of what lives in the McDowell Sonoran Preserve\, and how the flora and fauna survive and thrive. \nRestrooms and water are available at the trailhead. Please bring water and snacks for the trail. Plan to arrive 15 minutes before start of walk. \nSpace is limited! Please save your spot with the RSVP below.
URL:https://www.mcdowellsonoran.org/event/sonoran-desert-101-educational-walk-5/
LOCATION:Fraesfield Trailhead\, 13400 East Rio Verde Drive\, Scottsdale\, AZ\, 85262\, United States
CATEGORIES:Educational Walk
END:VEVENT
END:VCALENDAR